BEGIN:VCALENDAR
VERSION:2.0
PRODID:-//基督服務團 - ECPv6.1.3//NONSGML v1.0//EN
CALSCALE:GREGORIAN
METHOD:PUBLISH
X-ORIGINAL-URL:https://christianservice.org
X-WR-CALDESC:Events for 基督服務團
REFRESH-INTERVAL;VALUE=DURATION:PT1H
X-Robots-Tag:noindex
X-PUBLISHED-TTL:PT1H
BEGIN:VTIMEZONE
TZID:UTC
BEGIN:STANDARD
TZOFFSETFROM:+0000
TZOFFSETTO:+0000
TZNAME:UTC
DTSTART:20220101T000000
END:STANDARD
END:VTIMEZONE
BEGIN:VEVENT
DTSTART;VALUE=DATE:20220328
DTEND;VALUE=DATE:20220329
DTSTAMP:20260422T181318
CREATED:20220321T225641Z
LAST-MODIFIED:20220330T205920Z
UID:1038-1648425600-1648511999@christianservice.org
SUMMARY:大風下午茶 3.28
DESCRIPTION:目標：利用大風下午茶與青年相聚，希望能達成引領青年認識信仰，進而願意慕道，希望未來能讓他們成為教友，並能培養他們成為服務團員。\n流程：每二個月在餐飲店聚會一次，參照「日常生活中的神操」設計教案，來開啟每一場的大風下午茶內容，透過「生活與信仰」不著邊際地緊密結合，來凝聚青年。\n現況：我們已經在3.28舉行第一次聚會，之後遇上疫情，5.30舉行第二次聚會和7.25舉行第三次聚會，都是利用線上聚會。9.26、10.31和12.05又恢復實體聚會。
URL:https://christianservice.org/event/%e5%a4%a7%e9%a2%a8%e4%b8%8b%e5%8d%88%e8%8c%b6-3-28-2
CATEGORIES:大風下午茶
ATTACH;FMTTYPE=image/jpeg:https://christianservice.org/wp-content/uploads/2022/03/dafeng.jpg
END:VEVENT
END:VCALENDAR